BEGIN:VCALENDAR
VERSION:2.0
BEGIN:VEVENT
CATEGORIES:Category,Community Events,Category,Employee Events,Category,Student Events,Location,Outside the Student Resource Center Room 1612,featured,Yes
DESCRIPTION:Together We Act, United We Change Sexual Assault Services of Northwest New Mexico will be on campus to share information about their counseling, advocacy, and community education programs. Stop by to learn about available resources, ask questions, and connect with supportive services. Date April 29, 2026 Time 11:00 a.m. - 1:00 p.m. Location Outside the Student Resource Center Room 1612
DTSTAMP:20260422T204111
DTSTART:20260429T110000
DTEND:20260429T130000
LOCATION:Outside the Student Resource Center Room 1612
SUMMARY;LANGUAGE=en-us:Sexual Assault Awareness Resource Event
UID:b57069551f4857b7d11c1b5f3bb954a6@www.sanjuancollege.edu
END:VEVENT
END:VCALENDAR

