BEGIN:VCALENDAR
VERSION:2.0
BEGIN:VEVENT
CATEGORIES:Category,Community Events,Category,Employee Events,Category,Student Events,Location, Sun’s Lounge,featured,Yes
DESCRIPTION:Together We Act, United We Change We aim to increase awareness on campus about suicide and highlight local and national resources. Community partners will also be present to share about their programs and services. Sponsored by: Active Minds and Social Sciences Club Date April 23, 2025 Time 10:00 a.m. - 3:00 p.m. Location &nbsp;Sun&rsquo;s Lounge For more information, contact Nicholle Liessmann, liessmannn@sanjuancollege.edu or Kate Fulton, fulton_k@sanjuancollege.edu&nbsp;
DTSTAMP:20260423T104139
DTSTART:20250423T100000
DTEND:20250423T150000
LOCATION: Sun&rsquo;s Lounge
SUMMARY;LANGUAGE=en-us:Suicide Awareness Event
UID:82e7dc0dfea14b7f843176da9a0d36d6@www.sanjuancollege.edu
END:VEVENT
END:VCALENDAR

