BEGIN:VCALENDAR
VERSION:2.0
BEGIN:VEVENT
CATEGORIES:Category,Community Events,Category,Employee Events,Category,Student Events,Location,Connie Gotsch Theatre,featured,Yes
DESCRIPTION:Together We Act, United We Change The Hunting Ground is a documentary film directed by Kirby Dick and produced by Amy Ziering. It presents multiple students who allege they were sexually assaulted at their college campuses, and that college administrators either ignored them or required them to navigate a complex academic bureaucracy to have their claims addressed. Awareness and prevention give power to act and resolve matters promptly and appropriately. A group panel follows the film for remarks and questions. Rating: PG-13, 1h 43m. Time Showing: 10 am SJC Students Only &amp; 6 pm Community Time Panel Discussion: &nbsp;10 am only Sponsored by: SJC Human Services Department Date April 14, 2025 Time 10:00 a.m. SJC Students Only &amp; 6:00 p.m. Community Location Connie Gotsch Theatre For more information, email Kitrina Tamminga, tammingak@sanjuancollege.edu&nbsp;
DTSTAMP:20260423T062912
DTSTART:20250414T180000
DTEND:20250414T200000
LOCATION:Connie Gotsch Theatre
SUMMARY;LANGUAGE=en-us:The Hunting Ground Documentary Film Showing - Resource Booths
UID:8ef3c0e9e5fde0f710f5ea296411e086@www.sanjuancollege.edu
END:VEVENT
END:VCALENDAR

