BEGIN:VCALENDAR
VERSION:2.0
BEGIN:VEVENT
CATEGORIES:Category,Community Events,Category,Employee Events,Category,Student Events,Location,Where ever your going!,featured,Yes
DESCRIPTION:Step More, Feel Better, Win Prizes! Free for all SJC Employees Download the App to start participating!  Track steps and bonus walks Win Prizes!  For more information, please contact Erica Rawson, rawsone@sanjuancollege.edu 505-566-3819 Date April 4, 2025 - May 8, 2025 Time All day Location Where ever your going!
DTSTAMP:20260423T062742
DTSTART:20250404T000000
DTEND:20250518T235900
LOCATION:Where ever your going!
SUMMARY;LANGUAGE=en-us:Stride Into Spring Steps Challenge
UID:b58b1de03df4f30155e15eb83f6fe78a@www.sanjuancollege.edu
END:VEVENT
END:VCALENDAR

