BEGIN:VCALENDAR
VERSION:2.0
BEGIN:VEVENT
CATEGORIES:Category,Community Events,Category,Fine and Performing Arts,Category,Student Events,Location,Connie Gotsch Theatre,featured,Yes
DESCRIPTION:Choral Classics and Festive Favorites! Enjoy the beautiful vocal talents of our very own San Juan College Concert Choir. Conducted by our new School of Humanities faculty member, Elaina Crenshaw and Levi Brown, Piano Admissions  General Public: $10 Student: $0 SJC Employees: $0 Senior/Encore/Military: $8  Buy Tickets Date December 7, 2025 Time 2:00 p.m. Location Connie Gotsch Theatre
DTSTAMP:20260423T033218
DTSTART:20251207T140000
DTEND:20251207T160000
LOCATION:Connie Gotsch Theatre
SUMMARY;LANGUAGE=en-us:San Juan College Concert Choir
UID:ad2defd38ef2b5667cf6b1b69e3fdbb7@www.sanjuancollege.edu
END:VEVENT
END:VCALENDAR

