BEGIN:VCALENDAR
VERSION:2.0
BEGIN:VEVENT
CATEGORIES:Category,Food for Thought,Category,Student Events,Location,West Center in Kirtland, NM,featured,Yes
DESCRIPTION:Taking Classes at SJC West? Need a quick bite between classes? The Food for Thought Program has you covered! If you're at the West Campus in Kirtland, you can grab a free bite on the go. It's quick, easy, and totally stress-free&mdash;perfect for those busy days when you need to keep your energy up without skipping a beat. So swing by, grab some tasty food! Date May 7, 2025 Time 11:00 a.m. - 1:00 p.m. Location West Center in Kirtland, NM For more information, email foodforthought@sanjuancollege.edu or 505-566-3489
DTSTAMP:20260423T062741
DTSTART:20250507T110000
DTEND:20250507T130000
LOCATION:West Center in Kirtland, NM
SUMMARY;LANGUAGE=en-us:SJC West Finals Grab-and-Go
UID:95d92d4caa5fbb05d67928774bf34616@www.sanjuancollege.edu
END:VEVENT
END:VCALENDAR

