BEGIN:VCALENDAR
VERSION:2.0
BEGIN:VEVENT
CATEGORIES:Category,Food for Thought,Category,Student Events,Location,Sun's Lounge,featured,Yes
DESCRIPTION:Free Breakfast Burritos!! They say breakfast is the most important meal of the day, and we couldn&rsquo;t agree more. Fuel your body, boost your brainpower, and set the tone for whatever the day throws your way.&nbsp; Packed with protein, flavor, and feel-good vibes, a breakfast burrito isn&rsquo;t just a meal &mdash; it&rsquo;s motivation wrapped in a tortilla. Whether you're headed to class, or just need a morning pick-me-up, don&rsquo;t skip the meal that keeps you going strong. Grab yours while they&rsquo;re hot, and treat yourself to the fuel your body deserves &mdash; on the house! See you there! Date April 9, 2025 Time 8:00 a.m. - 10:00 a.m. Location Sun's Lounge For more information, email foodforthought@sanjuancollege.edu or 505-566-3489
DTSTAMP:20260423T103923
DTSTART:20250409T080000
DTEND:20250409T100000
LOCATION:Sun's Lounge
SUMMARY;LANGUAGE=en-us:The Most Important Meal of the Day!
UID:fc933d70352004d186426dd39f82c143@www.sanjuancollege.edu
END:VEVENT
END:VCALENDAR

