BEGIN:VCALENDAR
VERSION:2.0
BEGIN:VEVENT
CATEGORIES:Category,Community Events,Category,Student Events,Location,HHPC in the Walled-In Yard,featured,Yes
DESCRIPTION:Mark Your Calendars, Folks! Come join us at HHPC in the Walled-In Yard for an auction packed with deals! Preview Night: Friday, April 11th, from 4-6 p.m. &ndash; Come check out the items early and get a jump on the best picks before the sale kicks off! This is your chance to score incredible items. All items are sold "as-is".&nbsp;&nbsp; Here's a sneak peek of what's up for grabs:  Canoes Kayaks Sea Kayaks Rafts Workout Benches  Whether you're a student looking for an adventure on the water or gearing up for some home workouts, there&rsquo;s something for everyone! Date April 12, 2025 Time 10:00 a.m. Location HHPC in the Walled-In Yard
DTSTAMP:20260423T062434
DTSTART:20250412T100000
DTEND:20250412T130000
LOCATION:HHPC in the Walled-In Yard
SUMMARY;LANGUAGE=en-us:HHPS Outdoor Equipment Rental Center Auction
UID:f1c7c2ccbcdae74c71b613c28fef9487@www.sanjuancollege.edu
END:VEVENT
END:VCALENDAR

