BEGIN:VCALENDAR
VERSION:2.0
BEGIN:VEVENT
CATEGORIES:Category,Student Events,Location,SJC Library and SJC West Library,featured,Yes
DESCRIPTION:Spring into something new! SJC Library and West Library are celebrating the season of growth by giving away a free book to every patron, just stop by the circulation desk. While you're there, pick up a packet of seeds and kickstart your own garden adventure. Whether you're planting ideas or flowers, we're here to help you grow. Hurry in, books and seeds are available while supplies last! Date April 22, 2025 Time All Day Location SJC Library and SJC West Library
DTSTAMP:20260423T062106
DTSTART:20250422T080000
DTEND:20250422T170000
LOCATION:SJC Library and SJC West Library
SUMMARY;LANGUAGE=en-us:Earth Day
UID:b6414b5f317045ee6d6c08327d19b0f8@www.sanjuancollege.edu
END:VEVENT
END:VCALENDAR

