BEGIN:VCALENDAR
VERSION:2.0
BEGIN:VEVENT
CATEGORIES:Category,Community Events,Category,Fine and Performing Arts,Category,Student Events,Location,Henderson Fine Arts Center,featured,Yes
DESCRIPTION:A Night of Orchestral Mastery Come enjoy the San Juan College Orchestra&rsquo;s Spring Semester concert conducted by new faculty member, Molly Jensen. &nbsp;This program will feature San Juan College's own Violin Instructor, Mira Quackenbush, on the stunning Tchaikovsky Violin Concerto, along with selections by Shostakovich, Haydn, and Faure. Admissions  General Public: $9 Student: FREE SJC Employees: FREE Senior/Encore/Military: $7  Buy Tickets For information contact the Box Office at 505-566-3430
DTSTAMP:20260423T161531
DTSTART:20250502T190100
DTEND:20250502T210000
LOCATION:Henderson Fine Arts Center
SUMMARY;LANGUAGE=en-us:San Juan College Orchestra Presents Fire and Elegance
UID:3e770971f79608ba2bd54c30c4d9d2b6@www.sanjuancollege.edu
END:VEVENT
END:VCALENDAR

