BEGIN:VCALENDAR
VERSION:2.0
BEGIN:VEVENT
CATEGORIES:Category,Community Events,Category,Student Events,Location,San Juan College West, Kirtland,featured,Yes
DESCRIPTION:You're Invited! Enjoy read-alouds and interactive activities led by our own San Juan College West Book Buddies featuring special guests from the Kirtland community. Featured Stories include: Pete the Cat &amp; Dog Man (2016)  Prizes for readers who join in the fun! Creative activities and engaging experiences with our Book Buddies!  Let's celebrate reading and connection. Community welcome!! Date May 19: K-3rd GradeMay 22: 4th-8th GradeJune 16: K-3rd GradeJune 23: 4th-8th Grade Time 3:30 p.m. - 4:30 p.m. Location San Juan College West, Kirtland
DTSTAMP:20260423T103712
DTSTART:20250519T153000
DTEND:20250519T163000
LOCATION:San Juan College West, Kirtland
SUMMARY;LANGUAGE=en-us:Book Buddies Storytelling
UID:6f260db7e0756a31d723d824e951470a@www.sanjuancollege.edu
END:VEVENT
END:VCALENDAR

