BEGIN:VCALENDAR
VERSION:2.0
BEGIN:VEVENT
CATEGORIES:Category,Community Events,Category,Student Events,Location,Connie Gotsch Theatre ,featured,Yes
DESCRIPTION:Author Spotlight Join us for an engaging talk with author Ramona as she discusses her powerful book Exposure. Don't miss this opportunity to hear directly from the author and participate in a thought-provoking conversation. Meet &amp; Greet But that's not all! After the discussion, chat with Ramona, sign your book, and take photos. It&rsquo;s the perfect opportunity to connect with the author, ask questions, and learn more about her journey as a writer. Join us for this FREE Event! Date May 22, 2025 Time 5:30 p.m. - 7:30 p.m. Location Coinnie Gotsch Theatre For more information, contact the Box Office at 505-566-3430.&nbsp;
DTSTAMP:20260425T114523
DTSTART:20250522T173000
DTEND:20250522T193000
LOCATION:Connie Gotsch Theatre 
SUMMARY;LANGUAGE=en-us:Meet &amp; Greet Book Signing - Ramona Emerson
UID:0c2b6ae5f63ebf14369f244a2b3733ab@www.sanjuancollege.edu
END:VEVENT
END:VCALENDAR

