BEGIN:VCALENDAR
VERSION:2.0
BEGIN:VEVENT
CATEGORIES:Category,Dual Credit Orientation,Location,Via Zoom
DESCRIPTION:Attending an orientation is essential to learning how to start your summer class and is critical to your success in the college environment. Parents/family/mentors are welcome to join their student.&nbsp; Orientation Agenda  We will show you how to log in to your class Discuss the differences between college and high school Explain student resources, and so much more!  Date July 7, 2025 Time 11:00 a.m. - 12:30 p.m. Location via Zoom For more information, contact the Dual Credit Program at 505-566-3443.
DTSTAMP:20260423T092335
DTSTART:20250707T110000
DTEND:20250707T123000
LOCATION:Via Zoom
SUMMARY;LANGUAGE=en-us:Dual Credit Orientation for Summer 2025
UID:b6788f4c580a2f75cbf566f9e109aad2@www.sanjuancollege.edu
END:VEVENT
END:VCALENDAR

