BEGIN:VCALENDAR
VERSION:2.0
BEGIN:VEVENT
CATEGORIES:Category,Student Events,Location,Student Health Center,featured,Yes
DESCRIPTION:Gain the Skills, Feel at Ease In this group, we&rsquo;ll explore the DBT skill RESISTT&mdash;seven powerful tools to help you manage distress and stay in control, even when life feels overwhelming. Build resilience, reduce impulsive behaviors, and gain real-world strategies you can use anytime, anywhere! Workshop requires a minimum of 5 and a maximum of 10 participants. Date June 26, 2025 Time 2:00 p.m. - 3:00 p.m. Location Student Health Center (between the HHPC and Zia conference room) Call 505-566-4255 or email studenthealth@sanjuancollege.edu to secure your spot!
DTSTAMP:20260423T092735
DTSTART:20250626T140000
DTEND:20250626T150000
LOCATION:Student Health Center
SUMMARY;LANGUAGE=en-us:DBT Coping Skills Workshop
UID:d52baa0a75a3215115732407e68d6d72@www.sanjuancollege.edu
END:VEVENT
END:VCALENDAR

