BEGIN:VCALENDAR
VERSION:2.0
BEGIN:VEVENT
CATEGORIES:Category,Community Events,Category,Student Events,Location,HHPC Zia
DESCRIPTION:Every Drop Counts. Your Donation Could Save a Life. Join us for a meaningful opportunity to give back and support those in need by donating blood during our on-campus Blood Drive! Whether you&rsquo;re a first-time donor or a seasoned lifesaver, your participation can help across our community. For an appointment or schedule donation contact Vitalant @ 1-877-25-VITAL Date June 24, 2025 Time 10:00 a.m. - 1:00 p.m. Location HHPC Zia
DTSTAMP:20260423T103712
DTSTART:20250624T100000
DTEND:20250624T130000
LOCATION:HHPC Zia
SUMMARY;LANGUAGE=en-us:Blood Drive
UID:c7ded3f75227cc3b4f5d8bfa2f700cc6@www.sanjuancollege.edu
END:VEVENT
END:VCALENDAR

