BEGIN:VCALENDAR
VERSION:2.0
BEGIN:VEVENT
CATEGORIES:Category,Cinematheque,Category,Student Events,Location,West Campus in Kirtland, NM
DESCRIPTION:SJC West invites families &amp; students to a community-centered summer series geared for the busy parent or guardian. While the kids enjoy story time, you can prepare for your future education!&nbsp; Workshops &amp; Educational Advisement  July 8 &amp; 15 Advisement, Recruitment, &amp; Dual Credit July 29 Financial Aid-FAFSA Workshop  Dates July 1, 2025July 8, 2025July 15, 2025July 29, 2025 Time 3:00 p.m. - 4:00 p.m. Location West Campus in Kirtland, NM Questions? Call (505) 566-3598 San Juan College West located at 69 County Road 6500 Kirtland, NM 87417
DTSTAMP:20260423T061953
DTSTART:20250701T150000
DTEND:20250701T160000
LOCATION:West Campus in Kirtland, NM
SUMMARY;LANGUAGE=en-us:Summer Resource Series
UID:848794baca232c8d401b0d5c6f37c91b@www.sanjuancollege.edu
END:VEVENT
END:VCALENDAR

