BEGIN:VCALENDAR
VERSION:2.0
BEGIN:VEVENT
CATEGORIES:Category,Student Events,Location,Student Resource Center Room 1612
DESCRIPTION:Come Learn More! San Juan Housing Authority is a program that promotes adequate and affordable housing, economic opportunity and a suitable living environment free from discrimination to all San Juan County Residents. Date October 9, 2025 Time 11:00 a.m. - 1:00 p.m. Location Student Resource Center Room 1612
DTSTAMP:20260423T061733
DTSTART:20251009T110000
DTEND:20251009T130000
LOCATION:Student Resource Center Room 1612
SUMMARY;LANGUAGE=en-us:Community Resource Visit
UID:4e0cef518048042485f82075ccc17d59@www.sanjuancollege.edu
END:VEVENT
END:VCALENDAR

