BEGIN:VCALENDAR
VERSION:2.0
BEGIN:VEVENT
CATEGORIES:Category,Student Events,Location,Student Resource Center Room 1612
DESCRIPTION:Community Resource Event ECHO, Inc. will be on campus to share information about their emergency assistance programs and available community resources. Assistance includes food support, utility bill assistance, rental assistance, hygiene kits, diaper kits, and incontinence kits. Students are encouraged to stop by, learn about available resources, and ask questions. This is a great opportunity to connect with community support services during times of need. Date January 28, 2026 Time 11:00 a.m. - 1:00 p.m. Location Student Resource Center Room 1612
DTSTAMP:20260423T062621
DTSTART:20260128T110000
DTEND:20260128T130000
LOCATION:Student Resource Center Room 1612
SUMMARY;LANGUAGE=en-us:Economic Council Helping Others Inc. (ECHO) 
UID:cb96afb24205d8c79a158cd605abeea3@www.sanjuancollege.edu
END:VEVENT
END:VCALENDAR

