BEGIN:VCALENDAR
VERSION:2.0
BEGIN:VEVENT
CATEGORIES:Category,Cinematheque,Category,Community Events,Category,Fine and Performing Arts,Category,Student Events,Location,Connie Gotsch Theatre
DESCRIPTION:Preshow activities include a film short on San Francisco and Humphrey Bogart impression contest starting at 6:30 p.m.! Water and Popcorn available for purchase. Bring your own water bottle to fill and receive a free popcorn! Admissions  General Public: $5&nbsp;  Buy Tickets Date January 11, 2026 Time 6:30 p.m. (Preshow Activities)&nbsp;7:00 p.m. - 9:00 p.m. Showtime Location Connie Gotsch Theatre
DTSTAMP:20260423T103540
DTSTART:20260110T183000
DTEND:20260110T210000
LOCATION:Connie Gotsch Theatre
SUMMARY;LANGUAGE=en-us:Maltese Falcon
UID:64684e4526734a8f4968c0a41043cb30@www.sanjuancollege.edu
END:VEVENT
END:VCALENDAR

