BEGIN:VCALENDAR
VERSION:2.0
BEGIN:VEVENT
CATEGORIES:Category,Community Events,Category,Fine and Performing Arts,Category,San Juan Symphony,Category,Student Events,Location,Connie Gotsch Theatre,featured,Yes
DESCRIPTION:Beyond the Concert Hall A unique performance that breaks traditional boundaries and brings intimate, expressive music to life in new and exciting ways. Whether you're a seasoned classical music lover or a curious newcomer, this is a performance not to miss! Admissions  General Public: $30 Student: $10  Buy Tickets Date September 6, 2025 Time 2:00 p.m. Location Connie Gotsch Theatre
DTSTAMP:20260423T061819
DTSTART:20250906T140000
DTEND:20250906T160000
LOCATION:Connie Gotsch Theatre
SUMMARY;LANGUAGE=en-us:Chamber Music Series: The Verona Quartet
UID:46d606b5ee478efb54c6b1c5ffc6bd3e@www.sanjuancollege.edu
END:VEVENT
END:VCALENDAR

