BEGIN:VCALENDAR
VERSION:2.0
BEGIN:VEVENT
CATEGORIES:Category,Student Events,Location,Student Health Center,featured,Yes
DESCRIPTION:Join us for the Wellness Passport Adventure, a campus-wide event promoting healthy habits and connecting students with helpful resources and departments. What is a physical exam? A physical exam includes a check of your vitals (blood pressure, heart rate, oxygen, temperature, height &amp; weight) and a head-to-toe exam! The provider can review your medications and health conditions and will discuss recommended preventive screenings and blood tests. How it Works:  Pick up a passport at the Student Health Center Collect stamps and "Trail Treats" along the way &mdash; swag, snacks, drinks &amp; more! Complete all stations and drop your passport at the HHPC by 6 PM  Date September 3, 2025 Time 8:00 a.m. - 6:00 p.m. Location Student Health Center
DTSTAMP:20260423T092827
DTSTART:20250903T080000
DTEND:20250903T180000
LOCATION:Student Health Center
SUMMARY;LANGUAGE=en-us:Wellness Passport Adventure
UID:60eab923d7119d4e0b9c6be396b6dc16@www.sanjuancollege.edu
END:VEVENT
END:VCALENDAR

