BEGIN:VCALENDAR
VERSION:2.0
BEGIN:VEVENT
CATEGORIES:Category,Employee Events,Category,Student Events,Location,Henderson Fine Arts Center,featured,Yes
DESCRIPTION:A Unique Learning Opportunity for SJC Students, Staff and Faculty The New Mexico Supreme Court will hear arguments in a civil case as part of the Rule of Law Program, an excellent way for students to observe the state&rsquo;s highest court in action and better understand the justice system. Attendance Options:  In-person &ndash; RSVP required: First come, first served &ndash; students have priority seating Livestream: Visit the New Mexico Supreme Court&rsquo;s&nbsp;  Date August 28, 2025 Time 1:00 p.m. Location Henderson Fine Arts Center How to RSVP: SJC Students: If you plan to attend independently (not with a class), please RSVP to Tamara Mitchell at 505-827-4932 or suptdm@nmcourts.gov Deadline: August 26 SJC Faculty: If you are interested in having your class attend, please submit your course name and the number of students attending to Tamara Mitchell at 505-827-4932 or suptdm@nmcourts.gov Deadline: August 26 SJC Faculty and Staff: If you are attending without a class, RSVP to Paulette Stanley at Stanleyp@sanjuancollege.edu or 505-566-4227. &nbsp;&nbsp;Deadline: August 25 Community members: Not an SJC student, staff, or faculty? RSVP to Tamara Mitchell at 505-827-4932 or suptdm@nmcourts.gov by August 26. Note: Students and faculty have priority; community members will be admitted as space allows or may join via Livestream link above.
DTSTAMP:20260423T091813
DTSTART:20250828T130000
DTEND:20250828T170000
LOCATION:Henderson Fine Arts Center
SUMMARY;LANGUAGE=en-us:New Mexico Supreme Court - Rule of Law Program
UID:0f6164273f6cc331dfb95064b772e2e0@www.sanjuancollege.edu
END:VEVENT
END:VCALENDAR

