BEGIN:VCALENDAR
VERSION:2.0
BEGIN:VEVENT
CATEGORIES:Category,Student Events,Location,Student Health Center,featured,Yes
DESCRIPTION:Schedule your free physical exam at the Student Health Center, and you'll be entered to win a Nintendo Switch!(Limit One Entry per Student) What's Included in a Physical Exam?  Vitals (blood pressure, heart rate, oxygen, temperature, height &amp; weight) Head-to-toe physical exam Medication and health review Preventive screenings and blood test recommendations  Make Your Appointment Today! Call 505-566-4255 or schedule online through the Student Health Portal Date August 25 - October 3, 2025 Time 8:00 a.m. - 5:00 p.m. Location Student Health Center
DTSTAMP:20260423T061733
DTSTART:20250825T080000
DTEND:20251003T170000
LOCATION:Student Health Center
SUMMARY;LANGUAGE=en-us:Power Up Your Health
UID:f8fa2cb9a1ee9aede1f5a697a6260ace@www.sanjuancollege.edu
END:VEVENT
END:VCALENDAR

