BEGIN:VCALENDAR
VERSION:2.0
BEGIN:VEVENT
CATEGORIES:Category,Community Events,Category,Student Events,Location,The Sherman Dugan Museum of Geology at San Juan College,featured,Yes
DESCRIPTION:A ROAR-some Night of Fun! Join us for a prehistoric Halloween celebration the whole family will love! Step back in time for an evening filled with dinosaur-sized fun, and tons of activities for kids.&nbsp; Special guest as seen at the Smithsonian museum, Mr. Bones (Tim). He is an interactive paleo-Puppeteer who brings to life a Juvenile T-Rex (designed and built by him) as well as other prehistoric creatures. He will be bringing his replica Dinosaur heads for kids to "be the dinosaur". What to Expect:  Face Painting by the Cosmetology Department Face Painting Club  Dinosaur Themed Activities  Dig for gems and minerals  Trick-or-Treating &amp; More!   Date October 30, 2025 Time 5:00 p.m. - 8:00 p.m. Location The Sherman Dugan Museum of Geology at San Juan College
DTSTAMP:20260423T061952
DTSTART:20251030T170000
DTEND:20251030T200000
LOCATION:The Sherman Dugan Museum of Geology at San Juan College
SUMMARY;LANGUAGE=en-us:Dinosaur Halloween Party
UID:119f7cef77caf5d826e5e0430269eeb4@www.sanjuancollege.edu
END:VEVENT
END:VCALENDAR

