BEGIN:VCALENDAR
VERSION:2.0
BEGIN:VEVENT
CATEGORIES:Category,Community Events,Category,Student Events,Location,Tutoring Center Room 1611
DESCRIPTION:Discover the New Family Study Room at San Juan College! Every student&rsquo;s path is unique, and now, there&rsquo;s a place designed with that in mind. The Family Study Room is here to help student parents succeed by removing barriers to education. It shows San Juan College&rsquo;s commitment to removing barriers to education by providing a welcoming, calm and secure family-friendly environment where student parents can study while keeping an eye on their children. Inside, you&rsquo;ll find:   Quiet study zones for focus   Comfortable furniture for you and your kids   Child-friendly features and age-appropriate resources to keep little ones engaged   Join us for the Open House! Tour the space, explore its resources, and share your ideas on how it can serve our students and families even better. Date September 3, 2025 Time 3:00 p.m. - 5:00 p.m. Location Tutoring Center Room 1611
DTSTAMP:20260423T091849
DTSTART:20250903T150000
DTEND:20250903T170000
LOCATION:Tutoring Center Room 1611
SUMMARY;LANGUAGE=en-us:Family Study Room Open House
UID:69d1071443120ed86467149288e5fba5@www.sanjuancollege.edu
END:VEVENT
END:VCALENDAR

