BEGIN:VCALENDAR
VERSION:2.0
BEGIN:VEVENT
CATEGORIES:Category,Community Events,Category,Sports & Recreation,Category,Student Events,Location,HHPC,featured,Yes
DESCRIPTION:A Slam-Dunk Get your team together for a fun, full-court 5v5 mixed recreational basketball league! Play competitive games, referee for each other, and keep it sportsmanlike.&nbsp; Players can register as a team or go solo as a free agent. Free agents have a $10 fee and the team registration fee is $125 due at the first game. Beat the buzzer and register by signing up before October 31.&nbsp; Dates &amp; Times Tuesdays, November 4 - December 9 Location HHPC For more information, contact 505-566-3819
DTSTAMP:20260423T092135
DTSTART:20251104T173000
DTEND:20251104T203000
LOCATION:HHPC
SUMMARY;LANGUAGE=en-us:Shoot for Fun and Fitness with Intramural Basketball at HHPC
UID:5f1a5591abfc54a648949f697597a65d@www.sanjuancollege.edu
END:VEVENT
END:VCALENDAR

