BEGIN:VCALENDAR
VERSION:2.0
BEGIN:VEVENT
CATEGORIES:Category,Community Events,Category,Employee Events,Category,Music Performances,Category,San Juan Symphony,Category,Student Events,Location,Henderson Fine Arts Center,featured,Yes
DESCRIPTION:Tromba Mundi Trumpet EnsembleSan Juan SymphonyThomas Heuser, conductor  William Stowman, San Juan Sketches (World Premiere Commission)Ottorino Respighi, Pines of Rome (1924)Considered America&rsquo;s premiere professional trumpet ensemble, Tromba Mundi will give the World Premiere of San Juan Sketches, a new concerto for orchestra by William Stowman, commissioned in honor of our 40th Anniversary Season. After intermission, the celebration continues with the impactful Pines of Rome by Ottorino Respighi, a brilliant and virtuosic orchestral masterwork that showcases huge sounds and orchestral forces. Admissions Buy Tickets Date October 5, 2025 Time 3:00 p.m. Location Henderson Fine Arts Center  Sounds of the Symphony Call the SJC Box Office 505-566-3430 for your discount. Come celebrate San Juan Symphony Season 40 with us in Farmington. Events in the San Juan Symphony Season     Event Name Event Date/Time Location     Tromba Mundi &amp; Pines of Rome 10/05/2025 3:00pm MST Henderson Fine Arts Center   We are the Music Makers 11/09/2025 3:00pm MST Henderson Fine Arts Center   Mozart &amp; The Romantics 2/22/2026 3:00pm MST Henderson Fine Arts Center   Billy &amp; Rose: Wild West Outlaws 4/12/2026 3:00pm MST Henderson Fine Arts Center     Purchase San Juan Symphony Season 40 - Legacy in Harmony Packages 
DTSTAMP:20260423T103713
DTSTART:20251005T150000
DTEND:20251005T170000
LOCATION:Henderson Fine Arts Center
SUMMARY;LANGUAGE=en-us:San Juan Symphony: Tromba Mundi &amp; Pines of Rome
UID:f5ae3de49728a2506ae9aeedf799eda4@www.sanjuancollege.edu
END:VEVENT
END:VCALENDAR

