BEGIN:VCALENDAR
VERSION:2.0
BEGIN:VEVENT
CATEGORIES:Category,Community Events,Category,Student Events,Location,Herencia Latina Center - 1616,featured,Yes
DESCRIPTION:Planning your next step doesn&rsquo;t have to be confusing. Learn about transfer opportunities and resources! Date September 17, 2025 Time 11:00 a.m. 2:00 p.m. Location Herencia Latina Center - 1616
DTSTAMP:20260423T063017
DTSTART:20250917T110000
DTEND:20250917T140000
LOCATION:Herencia Latina Center - 1616
SUMMARY;LANGUAGE=en-us:Transferology/TES workshop
UID:44323bf6ad60b1c644dd9fd43cf1c323@www.sanjuancollege.edu
END:VEVENT
END:VCALENDAR

