BEGIN:VCALENDAR
VERSION:2.0
BEGIN:VEVENT
CATEGORIES:Category,Community Events,Category,Student Events,Location,TBD,featured,Yes
DESCRIPTION:Join us as we explore indigenous teachings for student wellness and health! Date September 13, 2025 Time 11:30 a.m. - 1:00 p.m. Location TBD
DTSTAMP:20260423T062455
DTSTART:20250913T113000
DTEND:20250913T130000
LOCATION:TBD
SUMMARY;LANGUAGE=en-us:Healing Informed Indigenous Teachings for Student Wellness and Health workshop
UID:399409e984175b092cda4a59bfd553a7@www.sanjuancollege.edu
END:VEVENT
END:VCALENDAR

