BEGIN:VCALENDAR
VERSION:2.0
BEGIN:VEVENT
CATEGORIES:Category,Community Events,Category,Student Events,Location,ENLACE 206,featured,Yes
DESCRIPTION:A bilingual wellness presentation focused on women&rsquo;s health Date October 7, 2025 Time 11:00 a.m. - 1:00 p.m. Location ENLACE 206
DTSTAMP:20260423T062429
DTSTART:20251007T110000
DTEND:20251007T130000
LOCATION:ENLACE 206
SUMMARY;LANGUAGE=en-us:Salud de la Mujer - Women's Health informational session
UID:a38cf2e08ff4c79c42009bd7f5f93f64@www.sanjuancollege.edu
END:VEVENT
END:VCALENDAR

