BEGIN:VCALENDAR
VERSION:2.0
BEGIN:VEVENT
CATEGORIES:Category,Community Events,Category,Student Events,Location,Sun's Room,featured,Yes
DESCRIPTION:Join us for a fun night of traditional Loteria, snacks, prizes and cultural connection! Date October 15, 2025 Time 5:00 p.m. - 7:00 p.m. Location Sun's Room
DTSTAMP:20260423T062924
DTSTART:20251015T170000
DTEND:20251015T190000
LOCATION:Sun's Room
SUMMARY;LANGUAGE=en-us:Loteria Night
UID:64c04146dfd9b10e9ffbeec93128e332@www.sanjuancollege.edu
END:VEVENT
END:VCALENDAR

