BEGIN:VCALENDAR
VERSION:2.0
BEGIN:VEVENT
CATEGORIES:Category,Community Events,Category,Fine and Performing Arts,Category,San Juan Symphony,Category,Student Events,Location,Henderson Fine Arts Center,featured,Yes
DESCRIPTION:Durango Choral Society, Rhonda Muckerman Caliente Choir of Farmington, Virginia Nickels &nbsp; Deborah Nansteel, Mezzo-Soprano San Juan Symphony Thomas Heuser, conductor &nbsp; Gabriel Faure, Pavane, Op. 50 (1887) Edward Elgar, The Music Makers, Op. 69 (1912) &nbsp; &ldquo;We are the music makers, and we are the dreamers of dreams.&rdquo; The famous Ode by English poet Arthur O&rsquo;Shaughnessy inspired Elgar&rsquo;s captivating musical statement, riddled with personal meaning and romantic sentiments. More than 100 singers will join in harmony to sing this impressive work, featuring the SJS debut of the compelling mezzo soprano, Deborah Nansteel.  Admissions Buy Tickets Date November 9, 2025 Time 3:00 p.m. Location Henderson Fine Arts Center  Sounds of the Symphony Call the SJC Box Office 505-566-3430 for your discount. Come celebrate San Juan Symphony Season 40 with us in Farmington. Events in the San Juan Symphony Season     Event Name Event Date/Time Location     Tromba Mundi &amp; Pines of Rome 10/05/2025 3:00pm MST Henderson Fine Arts Center   We are the Music Makers 11/09/2025 3:00pm MST Henderson Fine Arts Center   Mozart &amp; The Romantics 2/22/2026 3:00pm MST Henderson Fine Arts Center   Billy &amp; Rose: Wild West Outlaws 4/12/2026 3:00pm MST Henderson Fine Arts Center     Purchase San Juan Symphony Season 40 - Legacy in Harmony Packages  
DTSTAMP:20260423T103944
DTSTART:20251109T150000
DTEND:20251109T170000
LOCATION:Henderson Fine Arts Center
SUMMARY;LANGUAGE=en-us:San Juan Symphony: We Are The Music Makers
UID:e9a7b9282d84445927504097b65fa78a@www.sanjuancollege.edu
END:VEVENT
END:VCALENDAR

