BEGIN:VCALENDAR
VERSION:2.0
BEGIN:VEVENT
CATEGORIES:Category,Community Events,Category,Fine and Performing Arts,Category,Music Performances,Category,Student Events,Location,Henderson Fine Arts Center,featured,Yes
DESCRIPTION:Artist Series Ernie Tsosie has performed stand up comedy on countless stages all over the United States, from the world famous&rdquo; Laugh Factory&rdquo; in Hollywood CA to the prestigious &ldquo;Kennedy Center in Washington D.C. Mr. Tsosie has also appeared in numerous television and film productions. Admissions  General Public: $15 Student: $5 SJC Employees: $13 Senior/Encore/Military: $13  Buy Tickets Date November 14, 2025 Time 7:00 p.m. Location Henderson Fine Arts Center
DTSTAMP:20260423T092129
DTSTART:20251114T190000
DTEND:20251114T210000
LOCATION:Henderson Fine Arts Center
SUMMARY;LANGUAGE=en-us:Ernie Tsosie
UID:93381ec5e60576ea683174d96dd2786d@www.sanjuancollege.edu
END:VEVENT
END:VCALENDAR

