BEGIN:VCALENDAR
VERSION:2.0
BEGIN:VEVENT
CATEGORIES:Category,TRIO SSS,Location,TRIO Student Support Services & STEM-H Department, Room 1414,featured,Yes
DESCRIPTION:GPA, Scholarships, and Success Learn how to keep your GPA solid, stay on track with classes, and hold onto your scholarship without stress. Key Topics  Why students lose scholarships (things like academic probation, not enough credit hours, and more) How GPA is calculated and what &ldquo;academic standing&rdquo; really means Campus resources you should actually use &mdash; tutoring, advising, and mental health support How to talk with financial aid offices so you get answers (not confusion)  We&rsquo;ll wrap up with Collegeopoly: The Scholarship Quest! A&nbsp;game where you&rsquo;ll learn how to graduate debt-free by snagging scholarships, managing money, and beating both academic and life challenges. Date September 16, 2025 Time 12:00 p.m. - 1:00 p.m. Location TRIO Student Support Services &amp; STEM-H Department, Room 1414
DTSTAMP:20260423T092505
DTSTART:20250916T120000
DTEND:20250916T130000
LOCATION:TRIO Student Support Services &amp; STEM-H Department, Room 1414
SUMMARY;LANGUAGE=en-us:Keep that Scholarship
UID:bd35304dba9e51aaf1bee314dd1abab4@www.sanjuancollege.edu
END:VEVENT
END:VCALENDAR

