BEGIN:VCALENDAR
VERSION:2.0
BEGIN:VEVENT
CATEGORIES:Category,TRIO SSS,Location,TRIO Student Support Services & STEM-H Department Room 1414,featured,Yes
DESCRIPTION:The Secret Ingredient to Success - Encouragement Discover how encouragement can push you to keep trying, work harder, and avoid falling into failing grades.&nbsp; Key Topics  How encouragement fuels success and why effort matters The difference between helpful encouragement and not-so-helpful feedback Simple strategies to keep your own momentum going when school feels tough  Date September 17, 2025 Time 10:00 a.m. - 11:00 a.m. Location TRIO Student Support Services &amp; STEM-H Department, Room 1414
DTSTAMP:20260423T062311
DTSTART:20250917T100000
DTEND:20250917T110000
LOCATION:TRIO Student Support Services &amp; STEM-H Department Room 1414
SUMMARY;LANGUAGE=en-us:The Science of Encouragement
UID:434b3bfd8ed4f94d9b221c705ce186d3@www.sanjuancollege.edu
END:VEVENT
END:VCALENDAR

