BEGIN:VCALENDAR
VERSION:2.0
BEGIN:VEVENT
CATEGORIES:Category,Student Events,Category,TRIO SSS,Location,TRIO Student Support Services & STEM-H Department, Room 1414,featured,Yes
DESCRIPTION:Big Dreams, Real Options Get ready for National Transfer Student Week with San Juan College&rsquo;s Transfer Center! This interactive workshop will help you explore all the paths available to you after SJC and give you the tools to plan your next move with confidence. Key Topics  Where will I transfer? Exploring your options Studying abroad: can I really go to another country? Ivy League colleges &mdash; what they are and how to get there Border state reciprocal scholarships: what they are and how to qualify Finding the best transfer package, including deals for Native American students  You&rsquo;ll leave this workshop with clear answers, smart strategies, and the confidence to make your transfer plan real. Date September 23, 2025 Time 3:30 p.m. - 4:30 p.m. Location TRIO Student Support Services &amp; STEM-H Department, Room 1414
DTSTAMP:20260423T062111
DTSTART:20250923T153000
DTEND:20250923T163000
LOCATION:TRIO Student Support Services &amp; STEM-H Department, Room 1414
SUMMARY;LANGUAGE=en-us:Transfer Center Presentation
UID:1e838367aca24616e3ab0964430e47c7@www.sanjuancollege.edu
END:VEVENT
END:VCALENDAR

