BEGIN:VCALENDAR
VERSION:2.0
BEGIN:VEVENT
CATEGORIES:Category,Student Events,Category,TRIO SSS,Location,SJC Courtyard,featured,Yes
DESCRIPTION:Your Stage, Your Voice Open Mic Night is your chance to connect with fellow students, express yourself, and enjoy an evening of talent and fun in the courtyard. Step up to the mic and share what you&rsquo;ve got! Whether it&rsquo;s poetry, music, songs, stories, or a special talent (academic or not), this is your space to shine. Date September 23, 2025 Time 4:00 p.m. - 6:00 p.m. Location SJC Courtyard
DTSTAMP:20260423T092334
DTSTART:20250923T160000
DTEND:20250923T180000
LOCATION:SJC Courtyard
SUMMARY;LANGUAGE=en-us:TRIO Open Mic Night!
UID:96f549b29d6aa439d9f6248122d6d1d7@www.sanjuancollege.edu
END:VEVENT
END:VCALENDAR

