BEGIN:VCALENDAR
VERSION:2.0
BEGIN:VEVENT
CATEGORIES:Category,Food for Thought,Category,Student Events,Location,Sun’s Lounge,featured,Yes
DESCRIPTION:The Food for Thought Program will be providing a breakfast meal to students during finals weeks to help alleviate the stress and also to ensure they have a meal before exams.&nbsp; Date May 6, 2026 Time 9:30 a.m. - 11:00 a.m. Location Sun's Lounge
DTSTAMP:20260422T203721
DTSTART:20260506T093000
DTEND:20260506T110000
LOCATION:Sun&rsquo;s Lounge
SUMMARY;LANGUAGE=en-us:Food for Thought - Finals Breakfast at Main Campus
UID:fc3e4b3cc92464910bb9d4a9b1a77519@www.sanjuancollege.edu
END:VEVENT
END:VCALENDAR

