BEGIN:VCALENDAR
VERSION:2.0
BEGIN:VEVENT
CATEGORIES:Category,Student Events,Location,Connie Gotsch Theater Lobby,featured,Yes
DESCRIPTION:Get Ahead! Complete your 2026-27 FAFSA  On-site FAFSA help Potential to receive $500 scholarship through NMEAF Financial Aid guidance Free food and prizes Fun games!  Date October 25, 2025 Time 10:00 a.m. - 3:00 p.m. Location Connie Gotsch Theater Lobby
DTSTAMP:20260423T103718
DTSTART:20251025T100000
DTEND:20251025T150000
LOCATION:Connie Gotsch Theater Lobby
SUMMARY;LANGUAGE=en-us:Mega FAFSA Event
UID:c70ec92727417b4e4e5c5581a106dd00@www.sanjuancollege.edu
END:VEVENT
END:VCALENDAR

