BEGIN:VCALENDAR
VERSION:2.0
BEGIN:VEVENT
CATEGORIES:Category,Student Events,Location,Transfer Center Room 1601
DESCRIPTION:Come by the Transfer Center for a Transfer 101 Workshop and some treats! Stop by other Student Service Departments to share:  Your NEXT DREAM SCHOOL Explore SJC's Transfer Highlights around campus!  Date October 20, 2025 Time All Day Location Transfer Center Room 1606
DTSTAMP:20260423T062353
DTSTART:20251020T000000
DTEND:20251020T235900
LOCATION:Transfer Center Room 1601
SUMMARY;LANGUAGE=en-us:Transfer Week Kick-Off!
UID:c354c464363c9033bafe76af4a59376b@www.sanjuancollege.edu
END:VEVENT
END:VCALENDAR

