BEGIN:VCALENDAR
VERSION:2.0
BEGIN:VEVENT
CATEGORIES:Category,Employee Events,Category,Student Events,Location,On Campus
DESCRIPTION:Faculty and staff, show us where you have been; wear the colors of your alma mater! Students show us where you plan to go! Wear the colors that represent your NEXT DREAM SCHOOL!! Date October 21, 2025 Time All Day Location On Campus
DTSTAMP:20260423T062455
DTSTART:20251021T000000
DTEND:20251021T235900
LOCATION:On Campus
SUMMARY;LANGUAGE=en-us:Wag Your Swag
UID:90157f98acb99364995f41f23c1e3d77@www.sanjuancollege.edu
END:VEVENT
END:VCALENDAR

