BEGIN:VCALENDAR
VERSION:2.0
BEGIN:VEVENT
CATEGORIES:Category,Employee Events,Category,Student Events,Category,TRIO SSS,Location,Connie Gotsch Little Theater
DESCRIPTION:Think and Grow Rich: The Legacy will prove that world-class success can start right here, in a small town, with people just like you. This high-energy movie dives into real stories of people who beat the odds, ignored the limits, and created lives they love&mdash;and it will show you exactly how you can do it too. Whether you&rsquo;re fresh out of high school, coming back to college after years away, or somewhere in between, this film will meet you where you are and push you toward where you want to be. While the event is designed to inspire San Juan College students, both traditional and non-traditional, faculty and staff are encouraged to attend and be part of the energy. Presented by TRIO SSS/STEM-H, this isn&rsquo;t just a movie night&mdash;it&rsquo;s a rally for anyone ready to take control of their future. Come for the film, stay for the spark that could change everything. Dates &amp; Times November 10, 2025 @ 5:00 p.m. - 8:30 p.m.November 11, 2025 @ 3:30 p.m. - 7:00 p.m. Location Connie Gotsch Little Theatre
DTSTAMP:20260423T092018
DTSTART:20251110T170000
DTEND:20251110T203000
LOCATION:Connie Gotsch Little Theater
SUMMARY;LANGUAGE=en-us:Think and Grow Rich &ndash; The Movie
UID:de09fc7eb1647a2c574d9fd595c4ae08@www.sanjuancollege.edu
END:VEVENT
END:VCALENDAR

