BEGIN:VCALENDAR
VERSION:2.0
BEGIN:VEVENT
CATEGORIES:Category,TRIO SSS,Location,TRIO Student Support Services & STEM-H Department Room 1414,featured,Yes
DESCRIPTION:Justification: This workshop will prepare and teach students how to successfully present themselves, their qualifications, highlight their strengths, showcase their skills, and demonstrate their value in a small window of time. Later on, the students will then practice giving their own elevator speeches. This workshop will also discuss and bring light to current internships. Taylor Zamora will be contacting the Career Center at San Juan College to get a list of current internships. She will then present them to the students, creating awareness of summer opportunities. Date December 1, 2025 Time 10:00 a.m. - 12:00 p.m. Location TRIO Student Support Services &amp; STEM-H Department Room 1414
DTSTAMP:20260423T044802
DTSTART:20251201T100000
DTEND:20251201T120000
LOCATION:TRIO Student Support Services &amp; STEM-H Department Room 1414
SUMMARY;LANGUAGE=en-us:Elevator Speeches &amp; Internship Opportunities
UID:0473b8886840779f8f5f28bc2b4f044b@www.sanjuancollege.edu
END:VEVENT
END:VCALENDAR

