BEGIN:VCALENDAR
VERSION:2.0
BEGIN:VEVENT
CATEGORIES:Category,TRIO SSS,Location,TRIO Student Support Services & STEM-H Department Room 1414,featured,Yes
DESCRIPTION:Protect Yourself Justification: Discover the many ways identity theft occurs and the tactics criminals use to access your personal information. Learn how to deter, detect, and defend against fraud by understanding the common sources of stolen data and how it is obtained. This session will equip you with the knowledge to safeguard your identity. Date December 2, 2025 Time 2:30 p.m. - 3:30 p.m. Location TRIO Student Support Services &amp; STEM-H Department Room 1414
DTSTAMP:20260423T123409
DTSTART:20251202T143000
DTEND:20251202T153000
LOCATION:TRIO Student Support Services &amp; STEM-H Department Room 1414
SUMMARY;LANGUAGE=en-us:Money Matters Financial Series-Understanding Your Credit Report
UID:5299090c7d1bc360fe4135efaa86c9c3@www.sanjuancollege.edu
END:VEVENT
END:VCALENDAR

