BEGIN:VCALENDAR
VERSION:2.0
BEGIN:VEVENT
CATEGORIES:Category,TRIO SSS,Location,TRIO Student Support Services & STEM-H Department Room 1414,featured,Yes
DESCRIPTION:Fuel Your Body Without Draining Your Wallet This workshop is all about affordable shopping, easy meal prep, and smarter food choices that save both time and money. Key Topics  Grocery shopping tips every student should know Quick, simple, and nutritious meals that won&rsquo;t break the bank Stretching your budget without sacrificing health Smart snacking strategies for long study days Meal prep basics for busy schedules  Interactive Element Get hands-on with a fun activity: learn how to &ldquo;upgrade&rdquo; a basic cup of noodles into a balanced meal. You&rsquo;ll also explore budget-friendly recipes and meal ideas perfect for college life. Date October 14, 2025 Time 11:00 a.m. - 12:00 p.m. Location TRIO Student Support Services &amp; STEM-H Department Room 1414
DTSTAMP:20260423T062203
DTSTART:20251014T110000
DTEND:20251014T120000
LOCATION:TRIO Student Support Services &amp; STEM-H Department Room 1414
SUMMARY;LANGUAGE=en-us:Meals on a College Student Budget
UID:7944f5fc3e14eff7fc5379562ae1cbbc@www.sanjuancollege.edu
END:VEVENT
END:VCALENDAR

