BEGIN:VCALENDAR
VERSION:2.0
BEGIN:VEVENT
CATEGORIES:Category,TRIO SSS,Location,TRIO Student Support Services & STEM-H Department Room 1414,featured,Yes
DESCRIPTION:Hear real stories from TRIO Advisors about their own educational and career journeys &mdash; the challenges they faced, the choices they made, and the lessons they learned along the way. Key Topics  Different career pathways and how to explore your options Real challenges students face &mdash; and how to push through them Practical strategies to stay motivated and focused on your goals Lessons from TRIO Advisors you can apply to your own journey  You&rsquo;ll leave inspired by your TRIO Advisor&rsquo;s story and equipped with strategies to navigate obstacles, stay motivated, and plan for your own academic and professional success. Date October 20, 2025 Time 11:00 a.m. - 12:00 p.m. Location  TRIO Student Support Services &amp; STEM-H Department Room 1414
DTSTAMP:20260423T092433
DTSTART:20251020T110000
DTEND:20251020T120000
LOCATION:TRIO Student Support Services &amp; STEM-H Department Room 1414
SUMMARY;LANGUAGE=en-us:Pathways and Possibilities: Learning from Your TRIO Advisor&rsquo;s Journeys &ndash; Rick Martinez
UID:611fae4c8ebbe8bac27c61c78747b3b8@www.sanjuancollege.edu
END:VEVENT
END:VCALENDAR

