BEGIN:VCALENDAR
VERSION:2.0
BEGIN:VEVENT
CATEGORIES:Category,TRIO SSS,Location,TRIO Student Support Services & STEM-H Department Room 1414,featured,Yes
DESCRIPTION:Learn From Experience. Build Your Own Path. This workshop will give you a real look at different career pathways and practical strategies to help you stay motivated and focused on your own goals. Key Topics  Learning from real experiences: challenges, choices, and lessons How career paths aren&rsquo;t always straight lines (and why that&rsquo;s okay) Practical strategies to keep moving forward when things get tough Advice you can apply to your own academic and career planning  Expected Outcomes By the end of this workshop, you&rsquo;ll be able to:  Connect your own goals with the experiences shared by your TRIO Advisor Recognize that setbacks and challenges can actually create growth and opportunity Apply at least one new strategy or piece of advice to your own college or career planning  Date October 21, 2025 Time 11:00 a.m. - 12:00 p.m. Location TRIO Student Support Services &amp; STEM-H Department Room 1414
DTSTAMP:20260423T030244
DTSTART:20251021T110000
DTEND:20251021T120000
LOCATION:TRIO Student Support Services &amp; STEM-H Department Room 1414
SUMMARY;LANGUAGE=en-us:Pathways and Possibilities: Learning from Your TRIO Advisor&rsquo;s Journeys &ndash; Lani Padilla
UID:cb35e8e764256cd17055ac908cbdb18f@www.sanjuancollege.edu
END:VEVENT
END:VCALENDAR

