BEGIN:VCALENDAR
VERSION:2.0
BEGIN:VEVENT
CATEGORIES:Category,TRIO SSS,Location,TRIO Student Support Services & STEM-H Department Room 1414,featured,Yes
DESCRIPTION:Real Challenges. Real Choices. Real Growth. This workshop will give you practical insight into how to navigate your own path while staying motivated and resilient. Key Topics  Real experiences: challenges, choices, and lessons from your advisor Why career paths aren&rsquo;t always straightforward &mdash; and how that can be a strength Strategies for staying focused and moving forward when things get tough Practical advice you can apply to your own college and career goals  Expected utcomes By the end of this workshop, you&rsquo;ll be able to:  Connect your own goals with lessons from your TRIO Advisor&rsquo;s journey Recognize that challenges and setbacks can create growth and opportunity Apply at least one new strategy or piece of advice to your academic or career planning  Date October 22, 2025 Time 11:00 a.m. - 12:00 p.m. Location  TRIO Student Support Services &amp; STEM-H Department Room 1414 
DTSTAMP:20260423T091945
DTSTART:20251022T110000
DTEND:20251022T120000
LOCATION:TRIO Student Support Services &amp; STEM-H Department Room 1414
SUMMARY;LANGUAGE=en-us:Pathways and Possibilities: Learning from Your TRIO Advisor&rsquo;s Journeys &ndash; Levi Curtis
UID:bb6758bef2f61e95beccc288047e5799@www.sanjuancollege.edu
END:VEVENT
END:VCALENDAR

