BEGIN:VCALENDAR
VERSION:2.0
BEGIN:VEVENT
CATEGORIES:Category,TRIO SSS,Location,TRIO Student Support Services & STEM-H Department Room 1414,featured,Yes
DESCRIPTION:Finding Growth In Every Challenge This workshop will give you fresh insight into career pathways and strategies to help you stay motivated and on track. Key Topics  Real stories: challenges, choices, and lessons from your advisor Why career paths are rarely straight lines &mdash; and how that can lead to growth How to stay motivated when school or life gets tough Practical advice to guide your own academic and career planning  Expected Outcomes By the end of this workshop, you&rsquo;ll be able to:  Connect your own goals with experiences shared by your TRIO Advisor Recognize that challenges and detours can open new opportunities Apply at least one new strategy or piece of advice to your academic or career planning  Date October 23, 2025 Time 11:00 a.m. - 12:00 p.m. Location TRIO Student Support Services &amp; STEM-H Department Room 1414 
DTSTAMP:20260423T062111
DTSTART:20251023T110000
DTEND:20251023T120000
LOCATION:TRIO Student Support Services &amp; STEM-H Department Room 1414
SUMMARY;LANGUAGE=en-us:Pathways and Possibilities: Learning from Your TRIO Advisor&rsquo;s Journeys &ndash; Crystal Reyes
UID:623dfa3ab394b9227f7eea9fcd16a3f7@www.sanjuancollege.edu
END:VEVENT
END:VCALENDAR

