BEGIN:VCALENDAR
VERSION:2.0
BEGIN:VEVENT
CATEGORIES:Category,Student Events,Category,TRIO SSS,Location,TRIO Student Support Services & STEM-H Department Room 1414,featured,Yes
DESCRIPTION:Protect Your Info. Protect Your Future. This workshop will show you how criminals get personal information and what you can do to stop them. Key Topics  Common scams and sneaky ways identity theft happens Where criminals get personal information (and how to shut them down) Practical steps to deter, detect, and defend against fraud Everyday habits that help keep your identity safe  Takeaway You&rsquo;ll leave knowing how to spot red flags, protect your information, and stay one step ahead of identity thieves. Date October 30, 2025 Time 2:30 p.m. - 3:30 p.m. Location TRIO Student Support Services &amp; STEM-H Department Room 1414 
DTSTAMP:20260423T062238
DTSTART:20251030T143000
DTEND:20251030T153000
LOCATION:TRIO Student Support Services &amp; STEM-H Department Room 1414
SUMMARY;LANGUAGE=en-us:Money Matters Series: Avoiding Identity Theft
UID:2bc973f2e4013bf94bed78139e4bbb5e@www.sanjuancollege.edu
END:VEVENT
END:VCALENDAR

